Workbook
Name Acc_payable: #REF!
Name Acc_payable_growth_fore: #REF!
Name Acc_Rec: #REF!
Name Acc_Rec_growth_fore: #REF!
Name Acc_Rec_turns: #REF!
Name Accel_Ratio: #REF!
Name Accrued_compensation: #REF!
Name Accrued_compensation_growth_fore: #REF!
Name Accrued_expenses: #REF!
Name Accrued_expenses_growth_fore: #REF!
Name Accum_Cap_Expenses: #REF!
Name Accum_Cap_Expenses_growth_fore: #REF!
Name Accum_Goodwill_Amort: #REF!
Name Accum_Goodwill_Amort_growth_fore: #REF!
Name Accum_Other_Amort.: #REF!
Name Adj_net_oper_fore: #REF!
Name Adjusted_Common_Equity: #REF!
Name Adjusted_Income_Available_to_Common: #REF!
Name Adjusted_Net_Operating_Profit: #REF!
Name After_tax_charge: #REF!
Name After_Tax_charges_gains: #REF!
Name Average_invested_capital: #REF!
Name Average_invested_capital_DCF: #REF!
Name Average_thereafter: #REF!
Name Beta: #REF!
Name Bond_rating: #REF!
Name Book_value_per_share: #REF!
Name Cap._RnD_Asset_net_of_RnD_amort.: #REF!
Name Cash: #REF!
Name Cash_DCF: #REF!
Name Cash_fore: #REF!
Name Cash_growth: #REF!
Name Cash_growth_fore: #REF!
Name Cash_Operating_Taxes: #REF!
Name Cash_operating_taxes_fore: #REF!
Name Chg_in_fixed_assets: #REF!
Name Chg_in_other_assets: #REF!
Name Chg_in_working_capital: #REF!
Name Closing_price: #REF!
Name Commercial_paper: #REF!
Name Company: #REF!
Name Corporate_Value: #REF!
Name Cost_of_sales_net_of_D_A: #REF!
Name Cumulative_PV_of_EVA: #REF!
Name Cumulative_PV_of_FCF: #REF!
Name Current_assets: #REF!
Name Customer_deposits: #REF!
Name Customer_deposits_growth_fore: #REF!
Name DCF_1995: #REF!
Name DCF_1996: #REF!
Name DCF_1997: #REF!
Name DCF_1998: #REF!
Name DCF_1999: #REF!
Name DCF_2000: #REF!
Name DCF_2001: #REF!
Name DCF_2002: #REF!
Name DCF_2003: #REF!
Name DCF_2004: #REF!
Name DCF_2005: #REF!
Name DCF_2006: #REF!

Sheet Tutorial 8
B2: Online Tutorial #8: How Do You Perform a Price-Implied Expectations (PIE) Analysis?
B5: In the previous online tutorials, we defined and explained how to calculate and project various Operating Value Drivers and Other Value Determinants:
B7: Operating Value Drivers | C7: Topic Covered in Tutorial #:
B8: 1. Sales Growth Rate | C8: Tutorial #2 (Sales Growth Rate)
B9: 2. Operating Profit Margin
B10: 3. Incremental Investment Rate | C10: Tutorial #4 (Working Capital) and Tutorial #5 (Fixed Capital)
B11: Other Value Determinants | C11: Topic Covered in Tutorial #:
B12: 1. Cash Tax Rate | C12: Tutorial #7 (Cash Tax Rate)
B13: 2. Cost of Capital | C13: Tutorial #8 (Cost of Capital)
B14: 3. Forecast Period | C14: Tutorial #9 (below)
B17: This session puts it all together and uses those value drivers and determinants to explain the mechanics of the PIE analysis. We perform this analysis in four steps:
B19: 1. Calculate Free Cash Flow
B20: 2. Value Non-Operating Assets
B21: 3. Calculate Market Value of Equity
B22: 4. Determine the Market-Implied Forecast Period
B24: As with the previous tutorials, we will use Domino's Pizza. (as of September 2020) as a case study. Readers who want to perform the PIE calculations may wish to download the accompanying spreadsheet.
B26: In the calculations to follow, we will use the Operating Value Drivers and Other Value Determinants that we have projected previously.
B29: Sales Growth Rate (%) | C29: 0.07
B30: Operating Profit Margin (%) | C30: 0.175
B31: Cash Tax Rate (%) | C31: 0.165
B32: Incremental Working Capital Rate (%) | C32: 0.15
B33: Incremental Fixed Capital Rate (%) | C33: 0.1
B35: Step 1: Calculate Free Cash Flow
B37: All three Operating Value Drivers and one Other Value Determinant--the Cash Tax Rate--affect Free Cash Flow:
B39: We calculate Free Cash Flow for any given year by performing the following five steps:
B41: A. Calculate Sales
B42: B. Calculate Operating Profit
B43: C. Calculate and Subtract Cash Taxes
B44: D. Calculate and Subtract Incremental Investment
B45: E. Calculate Free Cash Flow
B47: A. Calculate Sales. For historical data, we use actual Sales figures as a starting point. For projected data, we apply the Sales Growth Rate (%) to historical Sales figures to project future Sales. For example, Domino's 2019 historical Sales amounted to $3.619 billion. With a 7% projected Sales Growth Rate, this would translate into $3.9 billion in Sales in 2020 and $4.1 billion in 2021.
C49: =+'Price Implied Expectations'!C5 -> 2021 | D49: =C49+1 -> 2022 | E49: =D49+1 -> 2023
B50: Sales (in billions) | C50: =+Inputs!C7/1000 -> 257.637 | D50: =+C50*(1+D51) -> 275.67159 | E50: =D50*(1+E51) -> 294.9686
B51: Sales Growth Rate (%) | D51: 0.07 | E51: =+D51 -> 0.07
B53: B. Calculate Operating Profit. We multiply Sales by the Operating Profit Margin (%) to obtain pre-tax Operating Profit. The historical Operating Profit Margin in 2019 equaled 17.39%. So, pre-tax Operating Profit in 2019 amounts to 17.39% times $3.619 billion in Sales, or $524 million. Using our projected Operating Profit Margin of 17.5%, projected Operating Profit in 2020 amounts to 17.5% times $3.87 billion in Sales, or $677.6 million. Operating Profit in 2021 amounts to 17.5% times $4.14 billion in Sales, or $725 million.
C55: =+C49 -> 2021 | D55: =C55+1 -> 2022 | E55: =D55+1 -> 2023
B56: Sales (in billions) | C56: =C50 -> 257.637 | D56: =D50 -> 275.67159 | E56: =E50 -> 294.9686
B57: Operating Profit Margin (%) | C57: =+Inputs!S10 -> 0.38671068 | D57: =+Inputs!C8 -> 0.27 | E57: =+D57 -> 0.27
B58: Pre-Tax Operating Profit (in millions) | C58: =C56*C57 -> 99.630978 | D58: =D56*D57 -> 74.431329 | E58: =E56*E57 -> 79.641522
B60: C. Calculate and Subtract Cash Taxes. We then take the company's pre-tax Operating Profit and multiply it by the Cash Tax Rate (%). We subtract the amount of Cash Taxes from pre-tax Operating Profit to obtain Net Operating Taxes After Taxes (NOPAT). In 2019, Domino's had a Cash Tax Rate of 16.7%, meaning the company's cash taxes were equal to $105.2 million, 16.7% times its pre-tax Operating Profit of $629.4 million. NOPAT was therefore $524 million in NOPAT. Applying our projected 16.5% cash tax rate to our 2020 and 2021 pre-tax Operating Profit estimates results in NOPAT of $566 million and $605 million, respectively.
...

Sheet Inputs
B2: Price-Implied Expectations (PIE) Inputs
B4: Operating Value Drivers:
G5: PIE | H5: Low | I5: High
B6: Sales growth rate | C6: 0.0975 | F6: Sales growth rate | G6: =+C6 -> 0.0975 | H6: =+G6-2% -> 0.0775 | I6: =+G6+2% -> 0.1175 | Q6: 2019 | R6: =+Q6+1 -> 2020 | S6: =+R6+1 -> 2021
B7: Starting sales | C7: 257637 | F7: Estimated value | G7: 97.05 | H7: 78.464839 | I7: 121.61749 | P7: sales | Q7: 151825 | R7: 168635 | S7: 237529
B8: Operating profit margin | C8: 0.27 | F8: Upside / downside | H8: =+H7/G7-1 -> -0.19150089 | I8: =+I7/G7-1 -> 0.25314256 | P8: incremental sales | R8: =+R7-Q7 -> 16810 | S8: =+S7-R7 -> 68894
B9: Starting operating profit margin | C9: =+S10 -> 0.38671068 | P9: EBIT | Q9: 48999 | R9: 54606 | S9: 91855
B10: Incremental fixed capital investment rate | C10: 0.1 | P10: margin | Q10: =+Q9/Q7 -> 0.32273341 | R10: =+R9/R7 -> 0.32381178 | S10: =+S9/S7 -> 0.38671068
B11: Incremental working capital investment rate | C11: 0.15 | P11: taxes | Q11: 5282 | R11: 7813 | S11: 14701
P12: cash taxes | Q12: =+Q11/Q9 -> 0.10779812 | R12: =+R11/R9 -> 0.14307952 | S12: =+S11/S9 -> 0.16004572
B13: Other Value Determinants:
B15: Cash tax rate | C15: 0.165 | G15: PIE | H15: Low | I15: High | P15: Current assets | Q15: 152675 | R15: 174296 | S15: 188413
B16: Cost of capital | C16: 0.1 | F16: Operating margin | G16: 0.27 | H16: =+G16-2% -> 0.25 | I16: =+G16+2% -> 0.29 | P16: Cash | Q16: 18498 | R16: 26465 | S16: 20945
B17: Inflation | C17: 0.05 | F17: Estimated value | G17: 97.05 | H17: 89.018485 | I17: 105.09042 | P17: Current liabilities | Q17: 45221 | R17: 56834 | S17: 64254
F18: Upside / downside | H18: =+H17/G17-1 -> -0.08275647 | I18: =+I17/G17-1 -> 0.082848236 | P18: Current portion | Q18: 0 | R18: 0 | S18: 0
B19: Market Valuation Metrics: | P19: Working capital | Q19: =+(Q15-Q16)-Q17 -> 88956 | R19: =+(R15-R16)-R17 -> 90997 | S19: =+(S15-S16)-S17 -> 103214
P20: Incremental WC | R20: =+R19-Q19 -> 2041 | S20: =+S19-R19 -> 12217
B21: Share price | C21: 97 | R21: =+R20/R8 -> 0.12141582 | S21: =+S20/S8 -> 0.17733039
B22: Shares Outstanding | C22: 13097
B23: Market Value of Equity | C23: =C21*C22 -> 1270409 | P23: Fixed capital | Q23: 73646 | R23: 84749 | S23: 97599
P24: Incremental fixed | R24: =+R23-Q23 -> 11103 | S24: =+S23-R23 -> 12850
B25: Debt | C25: =14653+11984+2371 -> 29008 | R25: =+R24/R8 -> 0.6604997 | S25: =+S24/S8 -> 0.18651842
B27: Cash & marketable securities | C27: 21984
B30: Estimated value | C30: =+'Price Implied Expectations'!C34 -> 97.050762

Sheet Price Implied Expectations
B2: Price-Implied Expectations (PIE) Analysis
B4: Years in Future | C4: 0 | D4: =C4+1 -> 1 | E4: =D4+1 -> 2 | F4: =E4+1 -> 3 | G4: =F4+1 -> 4 | H4: =G4+1 -> 5 | I4: =H4+1 -> 6 | J4: =I4+1 -> 7 | K4: =J4+1 -> 8 | ... AB4: =AA4+1 -> 25
B5: Date | C5: 2021 | D5: =C5+1 -> 2022 | E5: =D5+1 -> 2023 | F5: =E5+1 -> 2024 | G5: =F5+1 -> 2025 | H5: =G5+1 -> 2026 | I5: =H5+1 -> 2027 | J5: =I5+1 -> 2028 | K5: =J5+1 -> 2029 | ... AB5: =AA5+1 -> 2046
B7: Sales | C7: =Inputs!C7 -> 257637 | D7: =$C$7*(1+Inputs!$C$6) -> 282756.61 | E7: =D7*(1+Inputs!$C$6) -> 310325.38 | F7: =E7*(1+Inputs!$C$6) -> 340582.1 | G7: =F7*(1+Inputs!$C$6) -> 373788.86 | H7: =G7*(1+Inputs!$C$6) -> 410233.27 | I7: =H7*(1+Inputs!$C$6) -> 450231.01 | J7: =I7*(1+Inputs!$C$6) -> 494128.54 | K7: =J7*(1+Inputs!$C$6) -> 542306.07 | L7: =K7*(1+Inputs!$C$6) -> 595180.91 | ... AB7: =AA7*(1+Inputs!$C$6) -> 2637068.8
B9: Operating profit | C9: =C7*Inputs!$C$9 -> 99630.978 | D9: =D7*Inputs!$C$8 -> 76344.284 | E9: =E7*Inputs!$C$8 -> 83787.852 | F9: =F7*Inputs!$C$8 -> 91957.167 | G9: =G7*Inputs!$C$8 -> 100922.99 | H9: =H7*Inputs!$C$8 -> 110762.98 | I9: =I7*Inputs!$C$8 -> 121562.37 | J9: =J7*Inputs!$C$8 -> 133414.7 | K9: =K7*Inputs!$C$8 -> 146422.64 | ... AB9: =AB7*Inputs!$C$8 -> 712008.57
B10: Less: Cash taxes on operating profit | C10: =C9*Inputs!$C$15 -> 16439.111 | D10: =D9*Inputs!$C$15 -> 12596.807 | E10: =E9*Inputs!$C$15 -> 13824.996 | F10: =F9*Inputs!$C$15 -> 15172.933 | G10: =G9*Inputs!$C$15 -> 16652.294 | H10: =H9*Inputs!$C$15 -> 18275.892 | I10: =I9*Inputs!$C$15 -> 20057.792 | J10: =J9*Inputs!$C$15 -> 22013.426 | ... AB10: =AB9*Inputs!$C$15 -> 117481.41
B11: Net operating profit after tax (NOPAT) | C11: =C9-C10 -> 83191.867 | D11: =D9-D10 -> 63747.477 | E11: =E9-E10 -> 69962.856 | F11: =F9-F10 -> 76784.235 | G11: =G9-G10 -> 84270.698 | H11: =H9-H10 -> 92487.091 | I11: =I9-I10 -> 101504.58 | J11: =J9-J10 -> 111401.28 | ... AB11: =AB9-AB10 -> 594527.16
B13: Incremental fixed capital investment | D13: =(D7-C7)*Inputs!$C$10 -> 2511.9607 | E13: =(E7-D7)*Inputs!$C$10 -> 2756.8769 | F13: =(F7-E7)*Inputs!$C$10 -> 3025.6724 | G13: =(G7-F7)*Inputs!$C$10 -> 3320.6755 | H13: =(H7-G7)*Inputs!$C$10 -> 3644.4413 | I13: =(I7-H7)*Inputs!$C$10 -> 3999.7744 | J13: =(J7-I7)*Inputs!$C$10 -> 4389.7524 | K13: =(K7-J7)*Inputs!$C$10 -> 4817.7532 | ... AB13: =(AB7-AA7)*Inputs!$C$10 -> 23427.262
B14: Incremental working capital investment | D14: =(D7-C7)*Inputs!$C$11 -> 3767.9411 | E14: =(E7-D7)*Inputs!$C$11 -> 4135.3154 | F14: =(F7-E7)*Inputs!$C$11 -> 4538.5086 | G14: =(G7-F7)*Inputs!$C$11 -> 4981.0132 | H14: =(H7-G7)*Inputs!$C$11 -> 5466.662 | I14: =(I7-H7)*Inputs!$C$11 -> 5999.6616 | J14: =(J7-I7)*Inputs!$C$11 -> 6584.6286 | K14: =(K7-J7)*Inputs!$C$11 -> 7226.6299 | ... AB14: =(AB7-AA7)*Inputs!$C$11 -> 35140.894
D15: =D13+D14 -> 6279.9019 | E15: =E13+E14 -> 6892.1923 | F15: =F13+F14 -> 7564.1811 | G15: =G13+G14 -> 8301.6887 | H15: =H13+H14 -> 9111.1034 | I15: =I13+I14 -> 9999.4359 | J15: =J13+J14 -> 10974.381 | K15: =K13+K14 -> 12044.383 | ... AB15: =AB13+AB14 -> 58568.156
B17: Free cash flow | D17: =D11-D15 -> 57467.575 | E17: =E11-E15 -> 63070.664 | F17: =F11-F15 -> 69220.054 | G17: =G11-G15 -> 75969.009 | H17: =H11-H15 -> 83375.987 | I17: =I11-I15 -> 91505.146 | J17: =J11-J15 -> 100426.9 | K17: =K11-K15 -> 110218.52 | ... AB17: =AB11-AB15 -> 535959
B18: Present value of free cash flow | D18: =D17/((1+Inputs!$C$16)^D4) -> 52243.25 | E18: =E17/((1+Inputs!$C$16)^E4) -> 52124.516 | F18: =F17/((1+Inputs!$C$16)^F4) -> 52006.051 | G18: =G17/((1+Inputs!$C$16)^G4) -> 51887.855 | H18: =H17/((1+Inputs!$C$16)^H4) -> 51769.928 | I18: =I17/((1+Inputs!$C$16)^I4) -> 51652.269 | J18: =J17/((1+Inputs!$C$16)^J4) -> 51534.878 | K18: =K17/((1+Inputs!$C$16)^K4) -> 51417.753 | ... AB18: =AB17/((1+Inputs!$C$16)^AB4) -> 49466.871
B19: Cumulative present value of free cash flow | D19: =D18 -> 52243.25 | E19: =E18+D19 -> 104367.77 | F19: =F18+E19 -> 156373.82 | G19: =G18+F19 -> 208261.67 | H19: =H18+G19 -> 260031.6 | I19: =I18+H19 -> 311683.87 | J19: =J18+I19 -> 363218.75 | K19: =K18+J19 -> 414636.5 | L19: =L18+K19 -> 465937.4 | ... AB19: =AB18+AA19 -> 1271073.8
B20: Present value of residual value | D20: =((D11*(1+Inputs!$C$17))/(Inputs!$C$16-Inputs!$C$17))/((1+Inputs!$C$16)^D4) -> 1216997.3 | E20: =((E11*(1+Inputs!$C$17))/(Inputs!$C$16-Inputs!$C$17))/((1+Inputs!$C$16)^E4) -> 1214231.4 | F20: =((F11*(1+Inputs!$C$17))/(Inputs!$C$16-Inputs!$C$17))/((1+Inputs!$C$16)^F4) -> 1211471.8 | G20: =((G11*(1+Inputs!$C$17))/(Inputs!$C$16-Inputs!$C$17))/((1+Inputs!$C$16)^G4) -> 1208718.4 | H20: =((H11*(1+Inputs!$C$17))/(Inputs!$C$16-Inputs!$C$17))/((1+Inputs!$C$16)^H4) -> 1205971.3 | I20: =((I11*(1+Inputs!$C$17))/(Inputs!$C$16-Inputs!$C$17))/((1+Inputs!$C$16)^I4) -> 1203230.5 | J20: =((J11*(1+Inputs!$C$17))/(Inputs!$C$16-Inputs!$C$17))/((1+Inputs!$C$16)^J4) -> 1200495.9 | K20: =((K11*(1+Inputs!$C$17))/(Inputs!$C$16-Inputs!$C$17))/((1+Inputs!$C$16)^K4) -> 1197767.5 | ... AB20: =((AB11*(1+Inputs!$C$17))/(Inputs!$C$16-Inputs!$C$17))/((1+Inputs!$C$16)^AB4) -> 1152322
B22: Corporate value | D22: =D20+D19 -> 1269240.5 | E22: =E20+E19 -> 1318599.2 | F22: =F20+F19 -> 1367845.6 | G22: =G20+G19 -> 1416980.1 | H22: =H20+H19 -> 1466002.9 | I22: =I20+I19 -> 1514914.4 | J22: =J20+J19 -> 1563714.6 | K22: =K20+K19 -> 1612404 | ... AB22: =AB20+AB19 -> 2423395.9
B23: Add: Non-operating assets | D23: =Inputs!$C$27 -> 21984 | E23: =Inputs!$C$27 -> 21984 | F23: =Inputs!$C$27 -> 21984 | G23: =Inputs!$C$27 -> 21984 | H23: =Inputs!$C$27 -> 21984 | I23: =Inputs!$C$27 -> 21984 | J23: =Inputs!$C$27 -> 21984 | K23: =Inputs!$C$27 -> 21984 | ... AB23: =Inputs!$C$27 -> 21984
B24: Less: Debt & Other Liabilities | D24: =Inputs!$C$25 -> 29008 | E24: =Inputs!$C$25 -> 29008 | F24: =Inputs!$C$25 -> 29008 | G24: =Inputs!$C$25 -> 29008 | H24: =Inputs!$C$25 -> 29008 | I24: =Inputs!$C$25 -> 29008 | J24: =Inputs!$C$25 -> 29008 | K24: =Inputs!$C$25 -> 29008 | ... AB24: =Inputs!$C$25 -> 29008
B26: Shareholder value | D26: =D22+D23-D24 -> 1262216.5 | E26: =E22+E23-E24 -> 1311575.2 | F26: =F22+F23-F24 -> 1360821.6 | G26: =G22+G23-G24 -> 1409956.1 | H26: =H22+H23-H24 -> 1458978.9 | I26: =I22+I23-I24 -> 1507890.4 | J26: =J22+J23-J24 -> 1556690.6 | K26: =K22+K23-K24 -> 1605380 | ... AB26: =AB22+AB23-AB24 -> 2416371.9
B27: Shareholder value per share | D27: =D26/Inputs!$C$22 -> 96.374478 | E27: =E26/Inputs!$C$22 -> 100.14317 | F27: =F26/Inputs!$C$22 -> 103.90331 | G27: =G26/Inputs!$C$22 -> 107.65489 | H27: =H26/Inputs!$C$22 -> 111.39795 | I27: =I26/Inputs!$C$22 -> 115.1325 | J27: =J26/Inputs!$C$22 -> 118.85857 | K27: =K26/Inputs!$C$22 -> 122.57616 | ... AB27: =AB26/Inputs!$C$22 -> 184.49812
B29: Value of sales index | D29: =#REF!/(D7-C7) -> #REF! | E29: =#REF!/(E7-D7) -> #REF! | F29: =#REF!/(F7-E7) -> #REF! | G29: =#REF!/(G7-F7) -> #REF! | H29: =#REF!/(H7-G7) -> #REF! | I29: =#REF!/(I7-H7) -> #REF! | J29: =#REF!/(J7-I7) -> #REF! | K29: =#REF!/(K7-J7) -> #REF! | ... AB29: =#REF!/(AB7-AA7) -> #REF!
B30: Threshold margin | D30: =(((C9/C7)*(1+Inputs!$C$17))/(1+Inputs!$C$6))+((Inputs!$C$6*(Inputs!$C$10+Inputs!$C$11)*(Inputs!$C$16-Inputs!$C$17))/((1+Inputs!$C$6)*(1-Inputs!$C$15)*(1+Inputs!$C$16))) -> 0.37118278 | E30: =(((D9/D7)*(1+Inputs!$C$17))/(1+Inputs!$C$6))+((Inputs!$C$6*(Inputs!$C$10+Inputs!$C$11)*(Inputs!$C$16-Inputs!$C$17))/((1+Inputs!$C$6)*(1-Inputs!$C$15)*(1+Inputs!$C$16))) -> 0.25952336 | F30: =(((E9/E7)*(1+Inputs!$C$17))/(1+Inputs!$C$6))+((Inputs!$C$6*(Inputs!$C$10+Inputs!$C$11)*(Inputs!$C$16-Inputs!$C$17))/((1+Inputs!$C$6)*(1-Inputs!$C$15)*(1+Inputs!$C$16))) -> 0.25952336 | G30: =(((F9/F7)*(1+Inputs!$C$17))/(1+Inputs!$C$6))+((Inputs!$C$6*(Inputs!$C$10+Inputs!$C$11)*(Inputs!$C$16-Inputs!$C$17))/((1+Inputs!$C$6)*(1-Inputs!$C$15)*(1+Inputs!$C$16))) -> 0.25952336 | H30: =(((G9/G7)*(1+Inputs!$C$17))/(1+Inputs!$C$6))+((Inputs!$C$6*(Inputs!$C$10+Inputs!$C$11)*(Inputs!$C$16-Inputs!$C$17))/((1+Inputs!$C$6)*(1-Inputs!$C$15)*(1+Inputs!$C$16))) -> 0.25952336 | I30: =(((H9/H7)*(1+Inputs!$C$17))/(1+Inputs!$C$6))+((Inputs!$C$6*(Inputs!$C$10+Inputs!$C$11)*(Inputs!$C$16-Inputs!$C$17))/((1+Inputs!$C$6)*(1-Inputs!$C$15)*(1+Inputs!$C$16))) -> 0.25952336 | J30: =(((I9/I7)*(1+Inputs!$C$17))/(1+Inputs!$C$6))+((Inputs!$C$6*(Inputs!$C$10+Inputs!$C$11)*(Inputs!$C$16-Inputs!$C$17))/((1+Inputs!$C$6)*(1-Inputs!$C$15)*(1+Inputs!$C$16))) -> 0.25952336 | K30: =(((J9/J7)*(1+Inputs!$C$17))/(1+Inputs!$C$6))+((Inputs!$C$6*(Inputs!$C$10+Inputs!$C$11)*(Inputs!$C$16-Inputs!$C$17))/((1+Inputs!$C$6)*(1-Inputs!$C$15)*(1+Inputs!$C$16))) -> 0.25952336 | ... AB30: =(((AA9/AA7)*(1+Inputs!$C$17))/(1+Inputs!$C$6))+((Inputs!$C$6*(Inputs!$C$10+Inputs!$C$11)*(Inputs!$C$16-Inputs!$C$17))/((1+Inputs!$C$6)*(1-Inputs!$C$15)*(1+Inputs!$C$16))) -> 0.25952336
B31: Market-Implied Forecast Period | C31: =IF(Inputs!C21>AB27,"25+",IF(Inputs!C21<D27,"<1",LOOKUP(Inputs!C21,D27:AB27,D4:AB4))) -> 1
B32: =IF(C31="25+", "% of Stock Price Explained by 25 Year Forecast Period with Perpetuity", "")
C33: =IF(C31="25+",AB27/Inputs!C21,"")
B34: Estimated value per share | C34: =+AB19/Inputs!C22 -> 97.050762

Sheet Financials
O1: 1000000
A4: ANNUAL INCOME :
A5: fiscal_year | F5: =+G5-1 -> 2005 | G5: =+H5-1 -> 2006 | H5: =+I5-1 -> 2007 | I5: =+J5-1 -> 2008 | J5: =+K5-1 -> 2009 | K5: =+L5-1 -> 2010 | L5: =+M5-1 -> 2011 | M5: 2012 | N5: 2013 | O5: 2014 | P5: 2015 | Q5: 2016 | R5: 2017 | S5: 2018 | T5: 2019 | U5: 2020 | V5: 2021 | W5: TTM
A6: OperatingRevenue | M6: 0 | N6: 0 | O6: 0 | P6: 0 | Q6: 0 | R6: 0 | S6: 0 | T6: 0 | U6: 0 | V6: 0 | W6: 0
A7: OtherRevenue | M7: 46039 | N7: 55519 | O7: 66001 | P7: 74989 | Q7: 90272 | R7: 110855 | S7: 136819 | T7: 161857 | U7: 182527 | V7: 257637 | W7: 278139
A8: TotalRevenue | F8: 6138.56 | G8: 10604.917 | H8: 16593.986 | I8: 21795.55 | J8: 23650.563 | K8: 29321 | L8: 37905 | M8: 46039 | N8: 55519 | O8: 66001 | P8: 74989 | Q8: 90272 | R8: 110855 | S8: 136819 | T8: 161857 | U8: 182527 | V8: 257637 | W8: 278139
G9: =+G8/F8-1 -> 0.72759035 | H9: =+H8/G8-1 -> 0.56474454 | I9: =+I8/H8-1 -> 0.31346079 | J9: =+J8/I8-1 -> 0.085109713 | K9: =+K8/J8-1 -> 0.23975907 | L9: =+L8/K8-1 -> 0.29275946 | M9: =+M8/L8-1 -> 0.2145891 | N9: =+N8/M8-1 -> 0.20591238 | ... V9: =+V8/U8-1 -> 0.41150076
G10: =+MEDIAN($G$9:$V$9) -> 0.2213 | H10: =+MEDIAN($G$9:$V$9) -> 0.2213 | I10: =+MEDIAN($G$9:$V$9) -> 0.2213 | J10: =+MEDIAN($G$9:$V$9) -> 0.2213 | K10: =+MEDIAN($G$9:$V$9) -> 0.2213 | L10: =+MEDIAN($G$9:$V$9) -> 0.2213 | M10: =+MEDIAN($G$9:$V$9) -> 0.2213 | N10: =+MEDIAN($G$9:$V$9) -> 0.2213 | ... V10: =+MEDIAN($G$9:$V$9) -> 0.2213
A11: CostofRevenue | M11: 17176 | N11: 21993 | O11: 25691 | P11: 28164 | Q11: 35138 | R11: 45583 | S11: 59549 | T11: 71896 | U11: 84732 | V11: 110939 | W11: 120312
A12: GrossProfit | M12: 28863 | N12: 33526 | O12: 40310 | P12: 46825 | Q12: 55134 | R12: 65272 | S12: 77270 | T12: 89961 | U12: 97795 | V12: 146698 | W12: 157827
A13: SalesMarketingExpense | M13: 5465 | N13: 6554 | O13: 8131 | P13: 9047 | Q13: 10485 | R13: 12893 | S13: 16333 | T13: 18464 | U13: 17946 | V13: 22912 | W13: 25575
A14: LaborExpense | M14: 0 | N14: 0 | O14: 0 | P14: 0 | Q14: 0 | R14: 0 | S14: 0 | T14: 0 | U14: 0 | V14: 0 | W14: 0
A15: OtherGeneralAdministrativeExpense | M15: 3481 | N15: 4432 | O15: 5851 | P15: 6136 | Q15: 6985 | R15: 6840 | S15: 6923 | T15: 9551 | U15: 11052 | V15: 13510 | W15: 14427
A16: GeneralAdministrativeExpense | M16: 3481 | N16: 4432 | O16: 5851 | P16: 6136 | Q16: 6985 | R16: 6840 | S16: 6923 | T16: 9551 | U16: 11052 | V16: 13510 | W16: 14427
A17: OtherSellingGeneralAdministrativeExpenses | M17: 0 | N17: 0 | O17: 0 | P17: 0 | Q17: 0 | R17: 0 | S17: 0 | T17: 0 | U17: 0 | V17: 0 | W17: 0
A18: SellingGeneralAdministrativeExpenses | M18: 8946 | N18: 10986 | O18: 13982 | P18: 15183 | Q18: 17470 | R18: 19733 | S18: 23256 | T18: 28015 | U18: 28998 | V18: 36422 | W18: 40002
A19: ResearchDevelopmentExpense | M19: 6083 | N19: 7137 | O19: 9832 | P19: 12282 | Q19: 13948 | R19: 16625 | S19: 21419 | T19: 26018 | U19: 27573 | V19: 31562 | W19: 35362
A20: RestructuringRemediationImpairmentProvisions | M20: 0 | N20: 0 | O20: 0 | P20: 0 | Q20: 0 | R20: 0 | S20: 0 | T20: 0 | U20: 0 | V20: 0 | W20: 0
A21: DepreciationExpense | M21: 0 | N21: 0 | O21: 0 | P21: 0 | Q21: 0 | R21: 0 | S21: 0 | T21: 0 | U21: 0 | V21: 0 | W21: 0
A22: AmortizationExpense | M22: 0 | N22: 0 | O22: 0 | P22: 0 | Q22: 0 | R22: 0 | S22: 0 | T22: 0 | U22: 0 | V22: 0 | W22: 0
... A27: CFDepreciationAmortization | M27: 2962 | N27: 3939 | O27: 4979 | P27: 5063 | Q27: 6144 | R27: 6915 | S27: 9035 | T27: 11781 | U27: 13697 | V27: 12441 | W27: 14424
A28: EBIT | F28: 2017.278 | G28: 3549.996 | H28: 5084.4 | I28: 6631.969 | J28: 8312 | K28: 10381 | L28: 11742 | M28: 13834 | N28: 15403 | O28: 16496 | P28: 19360 | Q28: 23716 | R28: 26178 | S28: 27524 | T28: 34231 | U28: 41224 | V28: 78714 | W28: 82463
F29: =+F28/F8 -> 0.32862398 | G29: =+G28/G8 -> 0.33475 | H29: =+H28/H8 -> 0.30640016 | I29: =+I28/I8 -> 0.30428087 | J29: =+J28/J8 -> 0.35145041 | K29: =+K28/K8 -> 0.35404659 | L29: =+L28/L8 -> 0.30977444 | M29: =+M28/M8 -> 0.30048437 | ... W29: =+W28/W8 -> 0.29648126
F30: =+MEDIAN($F$29:$V$29) -> 0.30048437 | G30: =+MEDIAN($F$29:$V$29) -> 0.30048437 | H30: =+MEDIAN($F$29:$V$29) -> 0.30048437 | I30: =+MEDIAN($F$29:$V$29) -> 0.30048437 | J30: =+MEDIAN($F$29:$V$29) -> 0.30048437 | K30: =+MEDIAN($F$29:$V$29) -> 0.30048437 | L30: =+MEDIAN($F$29:$V$29) -> 0.30048437 | M30: =+MEDIAN($F$29:$V$29) -> 0.30048437 | ... V30: =+MEDIAN($F$29:$V$29) -> 0.30048437
A31: InterestExpense | M31: -85 | N31: -81 | O31: -101 | P31: -104 | Q31: -124 | R31: -109 | S31: -114 | T31: -100 | U31: -135 | V31: -346 | W31: -360
A32: InterestIncome | M32: 700 | N32: 766 | O32: 746 | P32: 999 | Q32: 1220 | R32: 1312 | S32: 1878 | T32: 2427 | U32: 1865 | V32: 1499 | W32: 1665
A33: OtherInterestIncomeExpenseNet | M33: 635 | N33: 0 | O33: 0 | P33: 0 | Q33: 0 | R33: 0 | S33: 0 | T33: 0 | U33: 0 | V33: 0 | W33: 0
A34: NonoperatingGainsLosses | F34: 1000 | M34: 0 | N34: 0 | O34: 0 | P34: 0 | Q34: 0 | R34: 0 | S34: 0 | T34: 0 | U34: 0 | V34: 0 | W34: 0
A35: OtherNonoperatingIncomeExpense | M35: 0 | N35: 496 | O35: 763 | P35: 291 | Q35: 434 | R35: 1015 | S35: 7389 | T35: 5394 | U35: 6858 | V35: 12020 | W35: 2951
A36: TotalNonoperatingIncomeExpense | M36: 635 | N36: 496 | O36: 763 | P36: 291 | Q36: 434 | R36: 1015 | S36: 7389 | T36: 5394 | U36: 6858 | V36: 12020 | W36: 2951
A37: IncomeBeforeTaxes | M37: 14469 | N37: 15899 | O37: 17259 | P37: 19651 | Q37: 24150 | R37: 27193 | S37: 34913 | T37: 39625 | U37: 48082 | V37: 90734 | W37: 85414
A38: IncomeTaxes | M38: 2916 | N38: 2739 | O38: 3639 | P38: 3303 | Q38: 4672 | R38: 14531 | S38: 4177 | T38: 5282 | U38: 7813 | V38: 14701 | W38: 13398
A39: IncomeAfterTaxes | M39: 11553 | N39: 13160 | O39: 13620 | P39: 16348 | Q39: 19478 | R39: 12662 | S39: 30736 | T39: 34343 | U39: 40269 | V39: 76033 | W39: 72016
A40: NoncontrollingInterest | M40: 0 | N40: 0 | O40: 0 | P40: 0 | Q40: 0 | R40: 0 | S40: 0 | T40: 0 | U40: 0 | V40: 0 | W40: 0
A41: EquityEarnings | M41: 0 | N41: 0 | O41: 0 | P41: 0 | Q41: 0 | R41: 0 | S41: 0 | T41: 0 | U41: 0 | V41: 0 | W41: 0
A42: MinorityInterestEquityEarnings | M42: 0 | N42: 0 | O42: 0 | P42: 0 | Q42: 0 | R42: 0 | S42: 0 | T42: 0 | U42: 0 | V42: 0 | W42: 0
A43: IncomebeforeExtraordinaryItems | M43: 11553 | N43: 13160 | O43: 13620 | P43: 16348 | Q43: 19478 | R43: 12662 | S43: 30736 | T43: 34343 | U43: 40269 | V43: 76033 | W43: 72016
A44: ExtraordinaryItems | M44: 0 | N44: 0 | O44: 0 | P44: 0 | Q44: 0 | R44: 0 | S44: 0 | T44: 0 | U44: 0 | V44: 0 | W44: 0
A45: AccountingChange | M45: 0 | N45: 0 | O45: 0 | P45: 0 | Q45: 0 | R45: 0 | S45: 0 | T45: 0 | U45: 0 | V45: 0 | W45: 0
A46: NetIncomefromContinuingOperationsApplicabletoCommon | M46: 11553 | N46: 13160 | O46: 13620 | P46: 15826 | Q46: 19478 | R46: 12662 | S46: 30736 | T46: 34343 | U46: 40269 | V46: 76033 | W46: 72016
...
